BEGIN:VCALENDAR
VERSION:2.0
PRODID:-//hacksw/handcal//NONSGML v1.0//EN
CALSCALE:GREGORIAN
METHOD:PUBLISH
BEGIN:VEVENT
UID:69e6006d21da4
DTSTAMP:20260420T103109Z
DTSTART:20270501T200000Z
DTEND:20270501T200000Z
SUMMARY:Rachmaninoff Symphonic Dances
END:VEVENT
END:VCALENDAR
