BEGIN:VCALENDAR
VERSION:2.0
PRODID:-//hacksw/handcal//NONSGML v1.0//EN
CALSCALE:GREGORIAN
METHOD:PUBLISH
BEGIN:VEVENT
UID:69e5fa33b245d
DTSTAMP:20260420T100435Z
DTSTART:20270109T200000Z
DTEND:20270109T200000Z
SUMMARY:Legends of the 60s 
END:VEVENT
END:VCALENDAR
