BEGIN:VCALENDAR
VERSION:2.0
PRODID:-//hacksw/handcal//NONSGML v1.0//EN
CALSCALE:GREGORIAN
METHOD:PUBLISH
BEGIN:VEVENT
UID:69e58ae1e4497
DTSTAMP:20260420T020937Z
DTSTART:20260503T150000Z
DTEND:20260503T150000Z
SUMMARY:Jurassic Park in Concert
END:VEVENT
END:VCALENDAR
