BEGIN:VCALENDAR
VERSION:2.0
PRODID:-//hacksw/handcal//NONSGML v1.0//EN
CALSCALE:GREGORIAN
METHOD:PUBLISH
BEGIN:VEVENT
UID:69e60cda3e33a
DTSTAMP:20260420T112410Z
DTSTART:20261211T120000Z
DTEND:20261211T120000Z
SUMMARY:Holiday Pops
END:VEVENT
END:VCALENDAR
