BEGIN:VCALENDAR
VERSION:2.0
PRODID:-//hacksw/handcal//NONSGML v1.0//EN
CALSCALE:GREGORIAN
METHOD:PUBLISH
BEGIN:VEVENT
UID:69ecf107dbba8
DTSTAMP:20260425T165119Z
DTSTART:20260626T200000Z
DTEND:20260626T200000Z
SUMMARY:Classics Under the Stars
END:VEVENT
END:VCALENDAR
