BEGIN:VCALENDAR
VERSION:2.0
PRODID:-//hacksw/handcal//NONSGML v1.0//EN
CALSCALE:GREGORIAN
METHOD:PUBLISH
BEGIN:VEVENT
UID:69ea6602cdd3f
DTSTAMP:20260423T183338Z
DTSTART:20261218T193000Z
DTEND:20261218T193000Z
SUMMARY:A Candlelight Christmas with the North Carolina Symphony Holiday Brass
END:VEVENT
END:VCALENDAR
